BEGIN:VCALENDAR
VERSION:2.0
PRODID:-//Tukios.com/
BEGIN:VEVENT
UID:b3238394-4e6e-47fa-96a4-094d2bbf36de@www.kinnickfuneralhome.com
DTSTAMP:20260424T201841Z
DTSTART:20260427T150000Z
DTEND:20260427T160000Z
SUMMARY:Mass of Christian Burial
DESCRIPTION:
URL:https://www.kinnickfuneralhome.com/obituaries/kevin-gura
LOCATION: 477 N Meridian Rd  Youngstown OH 44509
GEO:41.109452;-80.7107793
END:VEVENT
END:VCALENDAR