BEGIN:VCALENDAR
VERSION:2.0
PRODID:-//Tukios.com/
BEGIN:VEVENT
UID:24c892f1-5ade-4d8c-9cf9-d7cd23fdeb91@www.kinnickfuneralhome.com
DTSTAMP:20260424T201627Z
DTSTART:20260427T131500Z
DTEND:20260427T141500Z
SUMMARY:Visitation
DESCRIPTION:
URL:https://www.kinnickfuneralhome.com/obituaries/kevin-gura
LOCATION: 477 N Meridian Rd  Youngstown OH 44509
GEO:41.109452;-80.7107793
END:VEVENT
END:VCALENDAR