BEGIN:VCALENDAR
VERSION:2.0
PRODID:-//Tukios.com/
BEGIN:VEVENT
UID:b59f2668-cac9-428a-845d-59c861bf5084@www.kinnickfuneralhome.com
DTSTAMP:20260424T201520Z
DTSTART:20260426T190000Z
DTEND:20260426T210000Z
SUMMARY:Visitation
DESCRIPTION:
URL:https://www.kinnickfuneralhome.com/obituaries/kevin-gura
LOCATION: 477 N Meridian Rd  Youngstown OH 44509
GEO:41.109452;-80.7107793
END:VEVENT
END:VCALENDAR