BEGIN:VCALENDAR
VERSION:2.0
PRODID:-//Tukios.com/
BEGIN:VEVENT
UID:bcc1fbb5-d5df-4df1-a4d2-cbb06fa5dfde@www.kinnickfuneralhome.com
DTSTAMP:20260424T200431Z
DTSTART:20260502T160000Z
DTEND:20260502T170000Z
SUMMARY:Mass
DESCRIPTION:
URL:https://www.kinnickfuneralhome.com/obituaries/barbara-reardon
LOCATION:St. Blaise Parish, Immaculate Heart of Mary Church 4490 Norquest 
	Boulevard  Austintown OH 44515
GEO:41.1046812;-80.7361228
END:VEVENT
END:VCALENDAR