BEGIN:VCALENDAR
VERSION:2.0
PRODID:-//Tukios.com/
BEGIN:VEVENT
UID:520b4ae9-ea97-4c68-87cd-ee5c8c9ab595@www.kinnickfuneralhome.com
DTSTAMP:20260424T195921Z
DTSTART:20260502T133000Z
DTEND:20260502T153000Z
SUMMARY:Visitation
DESCRIPTION:
URL:https://www.kinnickfuneralhome.com/obituaries/barbara-reardon
LOCATION: 477 N Meridian Rd  Youngstown OH 44509
GEO:41.109452;-80.7107793
END:VEVENT
END:VCALENDAR